BEGIN:VCALENDAR
VERSION:2.0
PRODID:-//Leutloff&#039;s am See - ECPv4.6.12//NONSGML v1.0//EN
CALSCALE:GREGORIAN
METHOD:PUBLISH
X-WR-CALNAME:Leutloff&#039;s am See
X-ORIGINAL-URL:https://www.wirtshaus-zeuthen.de
X-WR-CALDESC:Veranstaltungen für Leutloff&#039;s am See
BEGIN:VEVENT
DTSTART;TZID=Europe/Berlin:20170417T120000
DTEND;TZID=Europe/Berlin:20170417T150000
DTSTAMP:20260423T085952
CREATED:20170415T114140Z
LAST-MODIFIED:20170415T114140Z
UID:1057-1492430400-1492441200@www.wirtshaus-zeuthen.de
SUMMARY:Oster Montag 17.04.2017
DESCRIPTION:17.04.17	12.00 Uhr\nOster – Brunch freuen Sie sich auf feines aus unsere Küche\, 	BIS 15:00 als klassisches und als Flying Buffet. 34\,00 € a Pers. inkl. ein Glas Prosecco \n
URL:https://www.wirtshaus-zeuthen.de/event/oster-montag-17-04-2017/
ATTACH;FMTTYPE=image/jpeg:https://www.wirtshaus-zeuthen.de/WordPress/wp-content/uploads/2015/03/familienfeier-buffet-slid-1.jpg
END:VEVENT
END:VCALENDAR