BEGIN:VCALENDAR
VERSION:2.0
PRODID:-//Leutloff&#039;s am See - ECPv4.6.12//NONSGML v1.0//EN
CALSCALE:GREGORIAN
METHOD:PUBLISH
X-WR-CALNAME:Leutloff&#039;s am See
X-ORIGINAL-URL:https://www.wirtshaus-zeuthen.de
X-WR-CALDESC:Veranstaltungen für Leutloff&#039;s am See
BEGIN:VEVENT
DTSTART;TZID=Europe/Berlin:20151213T160000
DTEND;TZID=Europe/Berlin:20151213T230000
DTSTAMP:20260423T090953
CREATED:20151014T073543Z
LAST-MODIFIED:20151030T191421Z
UID:772-1450022400-1450047600@www.wirtshaus-zeuthen.de
SUMMARY:Kunst&Genuß
DESCRIPTION:„Kunst&Genuß“ Matinee zu Weihnachten“Zauber der Weihnacht“ musikalisch-literarisch mit Markus Maria Winkler: Münchener Schauspieler\, dazu servieren wir ein weihnachtliches 3 Gang für sympathische 45\,00 €. \n
URL:https://www.wirtshaus-zeuthen.de/event/kunstgenuss/
END:VEVENT
END:VCALENDAR