BEGIN:VCALENDAR
VERSION:2.0
PRODID:-//Leutloff&#039;s am See - ECPv4.6.12//NONSGML v1.0//EN
CALSCALE:GREGORIAN
METHOD:PUBLISH
X-WR-CALNAME:Leutloff&#039;s am See
X-ORIGINAL-URL:https://www.wirtshaus-zeuthen.de
X-WR-CALDESC:Veranstaltungen für Leutloff&#039;s am See
BEGIN:VEVENT
DTSTART;TZID=Europe/Berlin:20181209T160000
DTEND;TZID=Europe/Berlin:20181209T213000
DTSTAMP:20260425T103803
CREATED:20181012T193001Z
LAST-MODIFIED:20181207T163741Z
UID:1457-1544371200-1544391000@www.wirtshaus-zeuthen.de
SUMMARY:Kunst & Genuss\, „Swinging Christmas“
DESCRIPTION:09.12.18		16.00 Uhr\nMarinée Kunst & Genuss\, „Swinging Christmas“ Ernie Schmiedel am  Piano\, begleitet\nvon der charmante Sängerin Josefin dazu servieren wir ein weihnachtliches 3-Gänge Menü. 45\,00 €.\nModeration: Jens Wollenberg\nWie schon im letzten Jahr wird  das Duo Josefin Karacan und Ernie Schmiedel ein Potpourri bes(ch)wingter  Weihnachtlieder vortragen\, die den hoffnungsfrohen Charakter des Festes betonen.\nBis heute hat Ernie Schmiedel\, der seit vielen Jahren mit seiner Familie in Zeuthen lebt\, weltweit mehr als 100 Solisten begleitet und wurde von mehr als 200 Bands international engagiert\, z. B. Johnny & the Drivers (Australien)\, Phil Bates Band (UK) und Stefan Diestelmann (Deutschland). Sein Stil ist geprägt von Musikern wie Booker T. Jones\, Floyd Cramer\, Jimmy Smith und Jerry Lee Lewis. Wer ihn einmal gehört und erlebt hat\, erkennt sofort seinen unverwechselbaren Stil.\nJosefin Karacan aus Berlin  kam über den Tanz und das Musical zum Jazz. Nach einer Tanzausbildung und Engagements in Musicalaufführungen in Deutschland und Dänemark wandte sie sich  der Kreativität des Jazz zu.  Ihre musikalischen Vorbilder sind  Diana Krall\, Ann Hampton Callaway und Roberta Gambarini. Seit 2000 ist sie die Stimme des Karacan-Trios. Sie tritt regelmäßig mit Ernie Schmiedel auf. \ndas menü\nAmuse Bouche\n*\nEnten – Consommé mit feiner Einlage\nund Enoki-Pilzen\n*\nKalbsroulade gefüllt mit\ngetrockneten Pflaumen\, Pinienkernen\, und Pancetta\, Rotkohl und Nussknödel\n*\nSchokolade & Aprikose \n
URL:https://www.wirtshaus-zeuthen.de/event/kunst-genuss-swinging-christmas/
ATTACH;FMTTYPE=image/jpeg:https://www.wirtshaus-zeuthen.de/WordPress/wp-content/uploads/2018/10/ernie-und-josi-2.jpg
END:VEVENT
END:VCALENDAR