BEGIN:VCALENDAR
VERSION:2.0
PRODID:-//Leutloff&#039;s am See - ECPv4.6.12//NONSGML v1.0//EN
CALSCALE:GREGORIAN
METHOD:PUBLISH
X-WR-CALNAME:Leutloff&#039;s am See
X-ORIGINAL-URL:https://www.wirtshaus-zeuthen.de
X-WR-CALDESC:Veranstaltungen für Leutloff&#039;s am See
BEGIN:VEVENT
DTSTART;TZID=Europe/Berlin:20231125T180000
DTEND;TZID=Europe/Berlin:20231125T220000
DTSTAMP:20260423T140400
CREATED:20231026T134857Z
LAST-MODIFIED:20231122T155042Z
UID:2492-1700935200-1700949600@www.wirtshaus-zeuthen.de
SUMMARY:Heidi kocht!
DESCRIPTION:25.11.23	18.00 Uhr\nHeidi kocht! Ein 4 Gang Überraschungs- Menü 74\,00 € \nAmuse Bouche: Sainte-Maure de Touraine & Pflaume\n*\nRahmsuppe vom schwarzen Rettich\, Trüffel\, Pancetta\n*\nKabeljau\, Shiitake\, Pilz-Nage\n*\nLammkeule klassisch geschmort auf Graupengemüse –\n*\nDelice und\nVorweihnachtliches Eis mit Lebkuchen und Spekulatius auf Kirsch-Erdbeer-Coulis \n
URL:https://www.wirtshaus-zeuthen.de/event/heidi-kocht-3/
ATTACH;FMTTYPE=image/jpeg:https://www.wirtshaus-zeuthen.de/WordPress/wp-content/uploads/2023/08/IMG_5426-2.jpg
END:VEVENT
END:VCALENDAR