BEGIN:VCALENDAR
VERSION:2.0
PRODID:-//Leutloff&#039;s am See - ECPv4.6.12//NONSGML v1.0//EN
CALSCALE:GREGORIAN
METHOD:PUBLISH
X-WR-CALNAME:Leutloff&#039;s am See
X-ORIGINAL-URL:https://www.wirtshaus-zeuthen.de
X-WR-CALDESC:Veranstaltungen für Leutloff&#039;s am See
BEGIN:VEVENT
DTSTART;TZID=Europe/Berlin:20191005T180000
DTEND;TZID=Europe/Berlin:20191005T230000
DTSTAMP:20260423T085511
CREATED:20190727T193205Z
LAST-MODIFIED:20191005T151117Z
UID:1715-1570298400-1570316400@www.wirtshaus-zeuthen.de
SUMMARY:Feinschmecker Abend
DESCRIPTION:05.10.19	18.00 Uhr	Feinschmecker Abend 5 Gänge – 6 Weine für sympathische 75\,00 €.\nmit Weinen von Gut Hermannsberg\, Nahe. Vorgestellt von Herrn Tobias Fricke\, Vertriebsleietr Nord Weingut Hermannsberg\, vormals königlich-preussische Weinbaudomaine. \n
URL:https://www.wirtshaus-zeuthen.de/event/feinschmecker-abend-30/
ATTACH;FMTTYPE=image/png:https://www.wirtshaus-zeuthen.de/WordPress/wp-content/uploads/2019/07/csm_96_E_3609013420.png
END:VEVENT
END:VCALENDAR